BEGIN:VCALENDAR
VERSION:2.0
PRODID:-//Mômes Circus//NONSGML kigkonsult.se iCalcreator 2.41.92//
CALSCALE:GREGORIAN
METHOD:PUBLISH
UID:35363365-6464-4733-b031-353430323534
X-WR-CALNAME:iCagenda
X-WR-CALDESC:Event Management Extension for Joomla!
X-WR-RELCALID:3E26604A-50F4-4449-8B3E-E4F4932D05B5
X-WR-TIMEZONE:UTC
BEGIN:VTIMEZONE
TZID:UTC
END:VTIMEZONE
BEGIN:VEVENT
UID:36636262-3462-4262-a537-303666326364
DTSTAMP:20260421T135605Z
CATEGORIES:Ateliers
CLASS:PUBLIC
DESCRIPTION;ALTREP="CID:<FFFF__=0ABBE548DFE235B58f9e8a93d@coffeebean.com>":
 \nDate : du 9 septembre 2026 au 26 mai 2027.\nLe mercredi de 16h15 à 17h15
  (accueil dès 16h).\nÂge : 21/5 - 4 ans. (L'enfant doit être autonome pour
  aller aux toilettes (sans lange) pour accéder aux ateliers de 'circomotri
 cité' et de cirque).\nPremier cours d'essai gratuit !\nCoût : 200€.\nNombr
 e maximum : 24 personnes.\nAnimateur.rices : Nathan Tack & Martina Paganel
 li.\nNos ateliers se tiennent sous réserve d’un nombre minimum de particip
 ants.\nPour s'inscrire à un atelier\, vous devez choisir l'atelier et remp
 lir le formulaire.\nL’inscription est validée à la réception d’un acompte 
 de 50€ avant le premier cours. Le solde de l'atelier doit être versé au 1e
 r octobre de la saison courante sur le compte de Mômes Circus : IBAN : BE8
 4 3750 8440 7459 / BIC : BBRUBEB. Communication : Nom\, Prénom\, N° de l'a
 telier.\nPour une inscription en cours d'année\, veuillez passer par la li
 ste d'attente.
DTSTART:20260909T161500Z
DTEND:20270526T171500Z
GEO:00;0
LOCATION:École du Château. Boulevard des Nerviens 52\, 7500 Tournai\, Belgi
 que
ORGANIZER;CN=:mailto:contact@momescircus.be
SEQUENCE:1
SUMMARY:Circo-découverte - N°3
TRANSP:OPAQUE
URL:https://www.momescircus.be/index.php/ateliers-2026-2027/tous-les-atelie
 rs/82-circo-decouverte-n-3-2026-2027?layout=vcal
END:VEVENT
END:VCALENDAR
