BEGIN:VCALENDAR
VERSION:2.0
PRODID:-//Mômes Circus//NONSGML kigkonsult.se iCalcreator 2.41.92//
CALSCALE:GREGORIAN
METHOD:PUBLISH
UID:61333432-3135-4331-b361-333933613865
X-WR-CALNAME:iCagenda
X-WR-CALDESC:Event Management Extension for Joomla!
X-WR-RELCALID:3E26604A-50F4-4449-8B3E-E4F4932D05B5
X-WR-TIMEZONE:UTC
BEGIN:VTIMEZONE
TZID:UTC
END:VTIMEZONE
BEGIN:VEVENT
UID:63643433-3030-4832-b038-353237666435
DTSTAMP:20260421T135135Z
CATEGORIES:Ateliers
CLASS:PUBLIC
DESCRIPTION;ALTREP="CID:<FFFF__=0ABBE548DFE235B58f9e8a93d@coffeebean.com>":
 Merci d'indiquer le numéro de l'atelier dans le fomulaire d'inscription.\n
 Pas d'acompte à payer pour une pré-inscription en liste d'attente.
DTSTART:20260410T090000Z
DTEND:20270531T160000Z
GEO:00;0
LOCATION:
ORGANIZER;CN=:mailto:contact@momescircus.be
SEQUENCE:1
SUMMARY:Liste d'attente 2026 - 2027
TRANSP:OPAQUE
URL:https://www.momescircus.be/index.php/ateliers-2026-2027/tous-les-atelie
 rs/84-liste-dattente-2026-2027-02?layout=vcal
END:VEVENT
END:VCALENDAR
