BEGIN:VCALENDAR
VERSION:2.0
PRODID:-//Mômes Circus//NONSGML kigkonsult.se iCalcreator 2.41.92//
CALSCALE:GREGORIAN
METHOD:PUBLISH
UID:62653562-6530-4733-b064-663433363333
X-WR-CALNAME:iCagenda
X-WR-CALDESC:Event Management Extension for Joomla!
X-WR-RELCALID:3E26604A-50F4-4449-8B3E-E4F4932D05B5
X-WR-TIMEZONE:UTC
BEGIN:VTIMEZONE
TZID:UTC
END:VTIMEZONE
BEGIN:VEVENT
UID:65623739-3539-4332-a438-383762333466
DTSTAMP:20260424T142237Z
CATEGORIES:Stages
CLASS:PUBLIC
DESCRIPTION;ALTREP="CID:<FFFF__=0ABBE548DFE235B58f9e8a93d@coffeebean.com>":
 \nDate : du 6 au 10 juillet 2026.\nDe 9h à 16h (accueil dès 8h30 &amp\; ga
 rderie jusque 16h30).\nÂge : 6 - 12 ans.\nCoût : 100€.\nNombre maximum : 1
 6 participants(es).\nAnimateurs : Martina Paganelli.\nNos ateliers se tien
 nent sous réserve d’un nombre minimum de participants\, nous vous tenons a
 vertis de l’éventuelle annulation par email.\nL'inscription ne sera effect
 ive qu'à la réception d'un acompte de 40€ sur le compte : BE84 3750 8440 7
 459 (BIC : BBRUBEBB) de Mômes Circus.\nLe solde sera réglé le 1er jour du 
 stage.\nDurant le stage\, un remboursement reste toujours possible sur pré
 sentation d'un certificat médical.\n\nDescription :\nStage d'Italien pour 
 les enfant et adolescents. Découverte de la langue et de sa culture.\nAu p
 rogramme : jeux et mini-conversation en italien.\nAtelier d'arts plastique
 s et de dessins.\nChanson italiennes\, découverte de la culture du pays et
  de sa cuisine.\nAnimatrice Martina Paganelli\, d'origine italienne et ani
 matrice artistique\, inscrite à l'Académie des Beaux-Arts de Tournai.\nÀ n
 e pas manquer !  \n\n
DTSTART:20260706T090000Z
DTEND:20260710T160000Z
GEO:00;0
LOCATION:Avenue de Maire 23\, 7500 Tournai Belgique.
ORGANIZER;CN=:mailto:contact@momescircus.be
SEQUENCE:1
SUMMARY:Stage 12 | Megaland | Techniques de cirque\, d'activités artistique
 s et d'italien | Été 2026
TRANSP:OPAQUE
URL:https://www.momescircus.be/index.php/stages-2025-2026/61-stage-12-megal
 and-techniques-de-cirque-dactivites-artistiques-et-ditalien-ete-2026?layou
 t=vcal
END:VEVENT
END:VCALENDAR
