BEGIN:VCALENDAR
VERSION:2.0
PRODID:-//Mômes Circus//NONSGML kigkonsult.se iCalcreator 2.41.92//
CALSCALE:GREGORIAN
METHOD:PUBLISH
UID:63623232-3636-4332-a434-643066343833
X-WR-CALNAME:iCagenda
X-WR-CALDESC:Event Management Extension for Joomla!
X-WR-RELCALID:3E26604A-50F4-4449-8B3E-E4F4932D05B5
X-WR-TIMEZONE:UTC
BEGIN:VTIMEZONE
TZID:UTC
END:VTIMEZONE
BEGIN:VEVENT
UID:37336435-6361-4234-b836-653033316534
DTSTAMP:20260421T110508Z
CATEGORIES:Stages
CLASS:PUBLIC
DESCRIPTION;ALTREP="CID:<FFFF__=0ABBE548DFE235B58f9e8a93d@coffeebean.com>":
 \nDate : du 27 au 30 avril 2026 (férié le 1 mai).\nDe 9h à 16h (accueil dè
 s 8h30 &amp\; garderie jusque 16h30).\nÂge : 6 - 12 ans.\nCoût : 80€.\nNom
 bre maximum : 24 participants(es).\nAnimateurs : Martina Paganelli | Matth
 ieu Guilbert.\nNos ateliers se tiennent sous réserve d’un nombre minimum d
 e participants\, nous vous tenons avertis de l’éventuelle annulation par e
 mail.\nL'inscription ne sera effective qu'à la réception d'un acompte de 4
 0€ sur le compte : BE84 3750 8440 7459 (BIC : BBRUBEBB) de Mômes Circus.\n
 Le solde sera réglé le 1er jour du stage.\nDurant le stage\, un remboursem
 ent reste toujours possible sur présentation d'un certificat médical.\n\nD
 escription :\nViens vivre une semaine de découvertes\, de rires et d’avent
 ures.\nDurant cette semaine\, nous nous transformerons en acrobates et en 
 jeunes artistes dans une ambiance joyeuse et colorée.\nAu programme : jong
 lerie\, équilibre\, acrobatie… mais aussi peinture\, dessin et sculpture.
 \nUn stage plein d’énergie\, d’amusement et de surprises !\nÀ ne pas manqu
 er ! 🎪 🎨
DTSTART:20260427T090000Z
DTEND:20260430T160000Z
GEO:00;0
LOCATION:Avenue de Maire 23\, 7500 Tournai Belgique.
ORGANIZER;CN=:mailto:contact@momescircus.be
SEQUENCE:1
SUMMARY:Stage 7 | Megaland | Techniques de cirque et art plastique | Pâques
  2026
TRANSP:OPAQUE
URL:https://www.momescircus.be/index.php/stages-2025-2026/83-stage-7-megala
 nd-techniques-de-cirque-et-art-plastique-paques-2026-02?layout=vcal
END:VEVENT
END:VCALENDAR
